Package: BiocSet Version: 1.25.0 Command: /home/biocbuild/bbs-3.23-bioc/R/bin/R CMD INSTALL BiocSet StartedAt: 2025-11-14 15:26:36 -0500 (Fri, 14 Nov 2025) EndedAt: 2025-11-14 15:26:51 -0500 (Fri, 14 Nov 2025) EllapsedTime: 15.5 seconds RetCode: 0 Status: OK