Package: BiocSet Version: 1.25.0 Command: /Library/Frameworks/R.framework/Resources/bin/R CMD build --keep-empty-dirs --no-resave-data BiocSet StartedAt: 2025-11-14 15:45:35 -0500 (Fri, 14 Nov 2025) EndedAt: 2025-11-14 15:46:28 -0500 (Fri, 14 Nov 2025) EllapsedTime: 52.6 seconds RetCode: 0 Status: OK PackageFile: BiocSet_1.25.0.tar.gz PackageFileSize: 358.9 KiB