Package: BiocSet Version: 1.25.0 Command: rm -rf BiocSet.buildbin-libdir && mkdir BiocSet.buildbin-libdir && /Users/biocbuild/BBS/utils/build-universal.sh BiocSet_1.25.0.tar.gz /Library/Frameworks/R.framework/Resources/bin/R BiocSet.buildbin-libdir StartedAt: 2025-11-13 23:29:20 -0500 (Thu, 13 Nov 2025) EndedAt: 2025-11-13 23:29:30 -0500 (Thu, 13 Nov 2025) EllapsedTime: 9.2 seconds RetCode: 0 Status: OK PackageFile: BiocSet_1.25.0.tgz PackageFileSize: 779.4 KiB