Package: BiocSet Version: 1.25.0 Maintainer: Kayla Morrell MaintainerEmail: kayla.morrell16 at gmail.com git_url: https://git.bioconductor.org/packages/BiocSet git_branch: devel git_last_commit: a89c079 git_last_commit_date: 2025-10-29 10:55:47 -0500 (Wed, 29 Oct 2025)