Package: BiocPkgTools Version: 1.29.0 Command: /home/biocbuild/bbs-3.23-bioc/R/bin/R CMD INSTALL BiocPkgTools StartedAt: 2025-11-11 15:18:00 -0500 (Tue, 11 Nov 2025) EndedAt: 2025-11-11 15:18:11 -0500 (Tue, 11 Nov 2025) EllapsedTime: 10.8 seconds RetCode: 0 Status: OK