Package: BiocPkgTools Version: 1.29.0 Command: /home/biocbuild/bbs-3.23-bioc/R/bin/R CMD build --keep-empty-dirs --no-resave-data BiocPkgTools StartedAt: 2025-11-13 16:28:40 -0500 (Thu, 13 Nov 2025) EndedAt: 2025-11-13 16:29:01 -0500 (Thu, 13 Nov 2025) EllapsedTime: 21.0 seconds RetCode: 1 Status: ERROR PackageFile: None PackageFileSize: NA