Package: BiocPkgTools Version: 1.29.0 Command: /Library/Frameworks/R.framework/Resources/bin/R CMD build --keep-empty-dirs --no-resave-data BiocPkgTools StartedAt: 2025-11-13 15:48:38 -0500 (Thu, 13 Nov 2025) EndedAt: 2025-11-13 15:48:55 -0500 (Thu, 13 Nov 2025) EllapsedTime: 17.2 seconds RetCode: 1 Status: ERROR PackageFile: None PackageFileSize: NA