Package: BiocPkgTools Version: 1.29.0 Maintainer: Sean Davis MaintainerEmail: seandavi at gmail.com git_url: https://git.bioconductor.org/packages/BiocPkgTools git_branch: devel git_last_commit: a2f816c git_last_commit_date: 2025-10-29 10:47:30 -0500 (Wed, 29 Oct 2025)