Package: BiocParallel Version: 1.45.0 Command: /Library/Frameworks/R.framework/Resources/bin/R CMD check --install=check:BiocParallel.install-out.txt --library=/Library/Frameworks/R.framework/Resources/library --no-vignettes --timings BiocParallel_1.45.0.tar.gz StartedAt: 2025-11-14 18:42:49 -0500 (Fri, 14 Nov 2025) EndedAt: 2025-11-14 18:47:07 -0500 (Fri, 14 Nov 2025) EllapsedTime: 258.4 seconds RetCode: 0 Status: OK CheckDir: BiocParallel.Rcheck Warnings: 0