Package: BiocParallel Version: 1.45.0 Command: rm -rf BiocParallel.buildbin-libdir && mkdir BiocParallel.buildbin-libdir && /Users/biocbuild/BBS/utils/build-universal.sh BiocParallel_1.45.0.tar.gz /Library/Frameworks/R.framework/Resources/bin/R BiocParallel.buildbin-libdir StartedAt: 2025-11-14 23:24:23 -0500 (Fri, 14 Nov 2025) EndedAt: 2025-11-14 23:24:35 -0500 (Fri, 14 Nov 2025) EllapsedTime: 11.3 seconds RetCode: 0 Status: OK PackageFile: BiocParallel_1.45.0.tgz PackageFileSize: 1.598 MiB