Package: BiocNeighbors Version: 2.5.0 Command: /Library/Frameworks/R.framework/Resources/bin/R CMD build --keep-empty-dirs --no-resave-data BiocNeighbors StartedAt: 2025-11-14 15:45:31 -0500 (Fri, 14 Nov 2025) EndedAt: 2025-11-14 15:45:45 -0500 (Fri, 14 Nov 2025) EllapsedTime: 14.2 seconds RetCode: 0 Status: OK PackageFile: BiocNeighbors_2.5.0.tar.gz PackageFileSize: 328.7 KiB