Package: BiocNeighbors Version: 2.5.0 Command: rm -rf BiocNeighbors.buildbin-libdir && mkdir BiocNeighbors.buildbin-libdir && /Users/biocbuild/BBS/utils/build-universal.sh BiocNeighbors_2.5.0.tar.gz /Library/Frameworks/R.framework/Resources/bin/R BiocNeighbors.buildbin-libdir StartedAt: 2025-11-14 23:24:22 -0500 (Fri, 14 Nov 2025) EndedAt: 2025-11-14 23:24:37 -0500 (Fri, 14 Nov 2025) EllapsedTime: 14.4 seconds RetCode: 0 Status: OK PackageFile: BiocNeighbors_2.5.0.tgz PackageFileSize: 683 KiB