Back to Build/check report for BioC 3.23:   simplified   long
A[B]CDEFGHIJKLMNOPQRSTUVWXYZ

This page was generated on 2025-11-13 11:32 -0500 (Thu, 13 Nov 2025).

HostnameOSArch (*)R versionInstalled pkgs
kjohnson3macOS 13.7.7 Venturaarm64R Under development (unstable) (2025-11-04 r88984) -- "Unsuffered Consequences" 4013
Click on any hostname to see more info about the system (e.g. compilers)      (*) as reported by 'uname -p', except on Windows and Mac OS X

All results for package BiocNeighbors


To the developers/maintainers of the BiocNeighbors package:
- Allow up to 24 hours (and sometimes 48 hours) for your latest push to git@git.bioconductor.org:packages/BiocNeighbors.git to reflect on this report. See Troubleshooting Build Report for more information.
- Use the following Renviron settings to reproduce errors and warnings.
- If 'R CMD check' started to fail recently on the Linux builder(s) over a missing dependency, add the missing dependency to 'Suggests:' in your DESCRIPTION file. See Renviron.bioc for more information.

raw results

Package 194/2325HostnameOS / ArchINSTALLBUILDCHECKBUILD BIN
BiocNeighbors 2.5.0  (landing page)
Aaron Lun
Snapshot Date: 2025-11-12 13:40 -0500 (Wed, 12 Nov 2025)
git_url: https://git.bioconductor.org/packages/BiocNeighbors
git_branch: devel
git_last_commit: e315db8
git_last_commit_date: 2025-10-29 10:46:10 -0500 (Wed, 29 Oct 2025)
kjohnson3macOS 13.7.7 Ventura / arm64  OK    OK    OK    OK  YES



Results for Bioconductor software packages that depend directly on package BiocNeighbors

QUICK STATSOS / ArchINSTALLBUILDCHECKBUILD BIN
kjohnson3macOS 13.7.7 Ventura / arm64
0816
0186
0204
006
Package 1/24HostnameOS / ArchINSTALLBUILDCHECKBUILD BIN
batchelor 1.27.0  (landing page)
Aaron Lun
git_last_commit: bb31e4b
git_last_commit_date: 2025-10-29 10:51:04 -0500
kjohnson3macOS 13.7.7 Ventura / arm64  OK    ERROR  skippedskipped
Package 2/24HostnameOS / ArchINSTALLBUILDCHECKBUILD BIN
bluster 1.21.0  (landing page)
Aaron Lun
git_last_commit: bd99aa0
git_last_commit_date: 2025-10-29 11:00:44 -0500
kjohnson3macOS 13.7.7 Ventura / arm64  OK    ERROR  skippedskipped
Package 3/24HostnameOS / ArchINSTALLBUILDCHECKBUILD BIN
CellMixS 1.27.0  (landing page)
Almut Lütge
git_last_commit: 4692bc3
git_last_commit_date: 2025-10-29 10:51:12 -0500
kjohnson3macOS 13.7.7 Ventura / arm64  OK    OK    OK    OK  YES
Package 4/24HostnameOS / ArchINSTALLBUILDCHECKBUILD BIN
clustSIGNAL 1.3.0  (landing page)
Pratibha Panwar
git_last_commit: 2c2540c
git_last_commit_date: 2025-10-29 11:35:51 -0500
kjohnson3macOS 13.7.7 Ventura / arm64  OK    OK    OK    OK  NO, package depends on 'bluster' which is only available as a source package that needs compilation
Package 5/24HostnameOS / ArchINSTALLBUILDCHECKBUILD BIN
concordexR 1.11.0  (landing page)
Kayla Jackson
git_last_commit: 7b24dc8
git_last_commit_date: 2025-10-29 11:22:42 -0500
kjohnson3macOS 13.7.7 Ventura / arm64  OK    ERROR  skippedskipped
Package 6/24HostnameOS / ArchINSTALLBUILDCHECKBUILD BIN
cydar 1.35.0  (landing page)
Aaron Lun
git_last_commit: d8b7be4
git_last_commit_date: 2025-10-29 10:37:34 -0500
kjohnson3macOS 13.7.7 Ventura / arm64  ERROR    ERROR  skippedskipped
Package 7/24HostnameOS / ArchINSTALLBUILDCHECKBUILD BIN
GeDi 1.7.0  (landing page)
Annekathrin Nedwed
git_last_commit: 5d8ba6c
git_last_commit_date: 2025-10-29 11:29:41 -0500
kjohnson3macOS 13.7.7 Ventura / arm64  OK    OK    ERROR    OK  
Package 8/24HostnameOS / ArchINSTALLBUILDCHECKBUILD BIN
imcRtools 1.17.0  (landing page)
Daniel Schulz
git_last_commit: 00166f2
git_last_commit_date: 2025-10-29 11:12:28 -0500
kjohnson3macOS 13.7.7 Ventura / arm64  ERROR    ERROR  skippedskipped
Package 9/24HostnameOS / ArchINSTALLBUILDCHECKBUILD BIN
lemur 1.9.0  (landing page)
Constantin Ahlmann-Eltze
git_last_commit: 2426da6
git_last_commit_date: 2025-10-29 11:26:19 -0500
kjohnson3macOS 13.7.7 Ventura / arm64  ERROR    ERROR  skippedskipped
Package 10/24HostnameOS / ArchINSTALLBUILDCHECKBUILD BIN
miloR 2.7.0  (landing page)
Mike Morgan
git_last_commit: 6c5c6a3
git_last_commit_date: 2025-10-29 11:08:58 -0500
kjohnson3macOS 13.7.7 Ventura / arm64  ERROR    ERROR  skippedskipped
Package 11/24HostnameOS / ArchINSTALLBUILDCHECKBUILD BIN
mumosa 1.19.0  (landing page)
Aaron Lun
git_last_commit: 67c3814
git_last_commit_date: 2025-10-29 11:05:15 -0500
kjohnson3macOS 13.7.7 Ventura / arm64  ERROR    ERROR  skippedskipped
Package 12/24HostnameOS / ArchINSTALLBUILDCHECKBUILD BIN
poem 1.3.0  (landing page)
Siyuan Luo
git_last_commit: e74dd69
git_last_commit_date: 2025-10-29 11:34:48 -0500
kjohnson3macOS 13.7.7 Ventura / arm64  OK    OK    OK    OK  NO, package depends on 'bluster' which is only available as a source package that needs compilation
Package 13/24HostnameOS / ArchINSTALLBUILDCHECKBUILD BIN
scater 1.39.0  (landing page)
Alan O'Callaghan
git_last_commit: 4ba4420
git_last_commit_date: 2025-10-29 10:30:01 -0500
kjohnson3macOS 13.7.7 Ventura / arm64  OK    ERROR  skippedskipped
Package 14/24HostnameOS / ArchINSTALLBUILDCHECKBUILD BIN
scDblFinder 1.25.0  (landing page)
Pierre-Luc Germain
git_last_commit: dffe1fe
git_last_commit_date: 2025-10-29 10:55:23 -0500
kjohnson3macOS 13.7.7 Ventura / arm64  ERROR    ERROR  skippedskipped
Package 15/24HostnameOS / ArchINSTALLBUILDCHECKBUILD BIN
scider 1.9.0  (landing page)
Yunshun Chen
git_last_commit: e0a2a6b
git_last_commit_date: 2025-10-29 11:26:16 -0500
kjohnson3macOS 13.7.7 Ventura / arm64  OK    OK    ERROR    OK  
Package 16/24HostnameOS / ArchINSTALLBUILDCHECKBUILD BIN
scMerge 1.27.0  (landing page)
Yingxin Lin
git_last_commit: 1741f7e
git_last_commit_date: 2025-10-29 10:51:54 -0500
kjohnson3macOS 13.7.7 Ventura / arm64  ERROR    ERROR  skippedskipped
Package 17/24HostnameOS / ArchINSTALLBUILDCHECKBUILD BIN
scrapper 1.5.2  (landing page)
Aaron Lun
git_last_commit: 5daae9c
git_last_commit_date: 2025-11-10 17:51:44 -0500
kjohnson3macOS 13.7.7 Ventura / arm64  OK    ERROR  skippedskipped
Package 18/24HostnameOS / ArchINSTALLBUILDCHECKBUILD BIN
SingleR 2.13.0  (landing page)
Aaron Lun
git_last_commit: 2ee58a5
git_last_commit_date: 2025-10-29 10:54:00 -0500
kjohnson3macOS 13.7.7 Ventura / arm64  OK    ERROR  skippedskipped
Package 19/24HostnameOS / ArchINSTALLBUILDCHECKBUILD BIN
smoothclust 1.7.0  (landing page)
Lukas M. Weber
git_last_commit: 1246c80
git_last_commit_date: 2025-10-31 22:00:55 -0500
kjohnson3macOS 13.7.7 Ventura / arm64  OK    ERROR  skippedskipped
Package 20/24HostnameOS / ArchINSTALLBUILDCHECKBUILD BIN
SpatialFeatureExperiment 1.13.0  (landing page)
Lambda Moses
git_last_commit: 06f0dbf
git_last_commit_date: 2025-10-29 11:19:11 -0500
kjohnson3macOS 13.7.7 Ventura / arm64  ERROR    ERROR  skippedskipped
Package 21/24HostnameOS / ArchINSTALLBUILDCHECKBUILD BIN
SpotSweeper 1.7.0  (landing page)
Michael Totty
git_last_commit: 61632f2
git_last_commit_date: 2025-10-29 11:29:53 -0500
kjohnson3macOS 13.7.7 Ventura / arm64  OK    OK    OK    OK  YES
Package 22/24HostnameOS / ArchINSTALLBUILDCHECKBUILD BIN
StabMap 1.5.0  (landing page)
Shila Ghazanfar
git_last_commit: 05ee46d
git_last_commit_date: 2025-10-29 11:31:21 -0500
kjohnson3macOS 13.7.7 Ventura / arm64  OK    ERROR  skippedskipped
Package 23/24HostnameOS / ArchINSTALLBUILDCHECKBUILD BIN
SVP 1.3.1  (landing page)
Shuangbin Xu
git_last_commit: e864351
git_last_commit_date: 2025-11-03 02:03:04 -0500
kjohnson3macOS 13.7.7 Ventura / arm64  OK    ERROR  skippedskipped
Package 24/24HostnameOS / ArchINSTALLBUILDCHECKBUILD BIN
UCell 2.15.0  (landing page)
Massimo Andreatta
git_last_commit: 1e041f7
git_last_commit_date: 2025-10-31 04:53:43 -0500
kjohnson3macOS 13.7.7 Ventura / arm64  OK    ERROR  skippedskipped