Package: BiocIO Version: 1.21.0 Command: /home/biocbuild/bbs-3.23-bioc/R/bin/R CMD INSTALL BiocIO StartedAt: 2025-11-13 15:12:40 -0500 (Thu, 13 Nov 2025) EndedAt: 2025-11-13 15:12:45 -0500 (Thu, 13 Nov 2025) EllapsedTime: 4.9 seconds RetCode: 0 Status: OK