Package: BiocIO Version: 1.21.0 Command: /Library/Frameworks/R.framework/Resources/bin/R CMD INSTALL BiocIO StartedAt: 2025-11-12 15:22:06 -0500 (Wed, 12 Nov 2025) EndedAt: 2025-11-12 15:22:08 -0500 (Wed, 12 Nov 2025) EllapsedTime: 1.9 seconds RetCode: 0 Status: OK