Package: BiocIO Version: 1.21.0 Command: /Library/Frameworks/R.framework/Resources/bin/R CMD build --keep-empty-dirs --no-resave-data BiocIO StartedAt: 2025-11-13 15:48:33 -0500 (Thu, 13 Nov 2025) EndedAt: 2025-11-13 15:48:38 -0500 (Thu, 13 Nov 2025) EllapsedTime: 4.1 seconds RetCode: 0 Status: OK PackageFile: BiocIO_1.21.0.tar.gz PackageFileSize: 226.4 KiB