Package: BiocHubsShiny Version: 1.11.0 Command: /home/biocbuild/bbs-3.23-bioc/R/bin/R CMD build --keep-empty-dirs --no-resave-data BiocHubsShiny StartedAt: 2025-11-14 16:28:37 -0500 (Fri, 14 Nov 2025) EndedAt: 2025-11-14 16:28:58 -0500 (Fri, 14 Nov 2025) EllapsedTime: 21.0 seconds RetCode: 0 Status: OK PackageFile: BiocHubsShiny_1.11.0.tar.gz PackageFileSize: 1.605 MiB