Package: BiocHubsShiny Version: 1.11.0 Command: rm -rf BiocHubsShiny.buildbin-libdir && mkdir BiocHubsShiny.buildbin-libdir && /Users/biocbuild/BBS/utils/build-universal.sh BiocHubsShiny_1.11.0.tar.gz /Library/Frameworks/R.framework/Resources/bin/R BiocHubsShiny.buildbin-libdir StartedAt: 2025-11-14 23:24:21 -0500 (Fri, 14 Nov 2025) EndedAt: 2025-11-14 23:24:29 -0500 (Fri, 14 Nov 2025) EllapsedTime: 8.2 seconds RetCode: 0 Status: OK PackageFile: BiocHubsShiny_1.11.0.tgz PackageFileSize: 741.8 KiB