Package: BiocHubsShiny Version: 1.11.0 Maintainer: Marcel Ramos MaintainerEmail: marcel.ramos at sph.cuny.edu git_url: https://git.bioconductor.org/packages/BiocHubsShiny git_branch: devel git_last_commit: 8c29714 git_last_commit_date: 2025-10-29 11:20:55 -0500 (Wed, 29 Oct 2025)