Package: BiocGenerics Version: 0.57.0 Command: /Library/Frameworks/R.framework/Resources/bin/R CMD INSTALL BiocGenerics StartedAt: 2025-11-12 15:21:19 -0500 (Wed, 12 Nov 2025) EndedAt: 2025-11-12 15:21:21 -0500 (Wed, 12 Nov 2025) EllapsedTime: 2.3 seconds RetCode: 0 Status: OK