Package: BiocGenerics Version: 0.57.0 Command: /Library/Frameworks/R.framework/Resources/bin/R CMD build --keep-empty-dirs --no-resave-data BiocGenerics StartedAt: 2025-11-12 15:52:29 -0500 (Wed, 12 Nov 2025) EndedAt: 2025-11-12 15:52:30 -0500 (Wed, 12 Nov 2025) EllapsedTime: 1.0 seconds RetCode: 0 Status: OK PackageFile: BiocGenerics_0.57.0.tar.gz PackageFileSize: 55.4 KiB