Package: BiocGenerics Version: 0.57.0 Command: rm -rf BiocGenerics.buildbin-libdir && mkdir BiocGenerics.buildbin-libdir && /Users/biocbuild/BBS/utils/build-universal.sh BiocGenerics_0.57.0.tar.gz /Library/Frameworks/R.framework/Resources/bin/R BiocGenerics.buildbin-libdir StartedAt: 2025-11-12 20:52:01 -0500 (Wed, 12 Nov 2025) EndedAt: 2025-11-12 20:52:05 -0500 (Wed, 12 Nov 2025) EllapsedTime: 4.2 seconds RetCode: 0 Status: OK PackageFile: BiocGenerics_0.57.0.tgz PackageFileSize: 644.9 KiB