Package: BiocGenerics Version: 0.57.0 Maintainer: Hervé Pagès MaintainerEmail: hpages.on.github at gmail.com git_url: https://git.bioconductor.org/packages/BiocGenerics git_branch: devel git_last_commit: 5fcc999 git_last_commit_date: 2025-10-29 14:48:01 -0500 (Wed, 29 Oct 2025)