Package: BiocFileCache Version: 3.1.0 Command: /home/biocbuild/bbs-3.23-bioc/R/bin/R CMD INSTALL BiocFileCache StartedAt: 2025-11-14 15:10:00 -0500 (Fri, 14 Nov 2025) EndedAt: 2025-11-14 15:10:08 -0500 (Fri, 14 Nov 2025) EllapsedTime: 8.5 seconds RetCode: 0 Status: OK