Package: BiocFileCache Version: 3.1.0 Command: /home/biocbuild/bbs-3.23-bioc/R/bin/R CMD build --keep-empty-dirs --no-resave-data BiocFileCache StartedAt: 2025-11-13 16:28:00 -0500 (Thu, 13 Nov 2025) EndedAt: 2025-11-13 16:30:58 -0500 (Thu, 13 Nov 2025) EllapsedTime: 178.2 seconds RetCode: 0 Status: OK PackageFile: BiocFileCache_3.1.0.tar.gz PackageFileSize: 725.8 KiB