Package: BiocFileCache Version: 3.1.0 Command: /Library/Frameworks/R.framework/Resources/bin/R CMD check --install=check:BiocFileCache.install-out.txt --library=/Library/Frameworks/R.framework/Resources/library --no-vignettes --timings BiocFileCache_3.1.0.tar.gz StartedAt: 2025-11-12 18:04:58 -0500 (Wed, 12 Nov 2025) EndedAt: 2025-11-12 18:06:05 -0500 (Wed, 12 Nov 2025) EllapsedTime: 66.9 seconds RetCode: 0 Status: OK CheckDir: BiocFileCache.Rcheck Warnings: 0