Package: BiocFileCache Version: 3.1.0 Command: rm -rf BiocFileCache.buildbin-libdir && mkdir BiocFileCache.buildbin-libdir && /Users/biocbuild/BBS/utils/build-universal.sh BiocFileCache_3.1.0.tar.gz /Library/Frameworks/R.framework/Resources/bin/R BiocFileCache.buildbin-libdir StartedAt: 2025-11-12 20:52:00 -0500 (Wed, 12 Nov 2025) EndedAt: 2025-11-12 20:52:04 -0500 (Wed, 12 Nov 2025) EllapsedTime: 4.2 seconds RetCode: 0 Status: OK PackageFile: BiocFileCache_3.1.0.tgz PackageFileSize: 952.9 KiB