Package: BiocCheck Version: 1.47.1 Command: /home/biocbuild/bbs-3.23-bioc/R/bin/R CMD INSTALL BiocCheck StartedAt: 2025-11-14 15:14:52 -0500 (Fri, 14 Nov 2025) EndedAt: 2025-11-14 15:15:04 -0500 (Fri, 14 Nov 2025) EllapsedTime: 11.7 seconds RetCode: 0 Status: OK