Package: BiocCheck Version: 1.47.1 Command: /home/biocbuild/bbs-3.23-bioc/R/bin/R CMD build --keep-empty-dirs --no-resave-data BiocCheck StartedAt: 2025-11-14 16:28:17 -0500 (Fri, 14 Nov 2025) EndedAt: 2025-11-14 16:28:32 -0500 (Fri, 14 Nov 2025) EllapsedTime: 15.0 seconds RetCode: 0 Status: OK PackageFile: BiocCheck_1.47.1.tar.gz PackageFileSize: 312.6 KiB