Package: BiocCheck Version: 1.47.1 Maintainer: Marcel Ramos MaintainerEmail: marcel.ramos at sph.cuny.edu git_url: https://git.bioconductor.org/packages/BiocCheck git_branch: devel git_last_commit: 202c10d git_last_commit_date: 2025-11-04 13:37:35 -0500 (Tue, 04 Nov 2025)