Package: BiocBook Version: 1.9.0 Command: /home/biocbuild/bbs-3.23-bioc/R/bin/R CMD build --keep-empty-dirs --no-resave-data BiocBook StartedAt: 2025-11-11 16:31:27 -0500 (Tue, 11 Nov 2025) EndedAt: 2025-11-11 16:31:54 -0500 (Tue, 11 Nov 2025) EllapsedTime: 27.0 seconds RetCode: 0 Status: OK PackageFile: BiocBook_1.9.0.tar.gz PackageFileSize: 902.9 KiB