Package: BiocBook Version: 1.9.0 Command: /Library/Frameworks/R.framework/Resources/bin/R CMD build --keep-empty-dirs --no-resave-data BiocBook StartedAt: 2025-11-13 15:48:19 -0500 (Thu, 13 Nov 2025) EndedAt: 2025-11-13 15:48:41 -0500 (Thu, 13 Nov 2025) EllapsedTime: 21.3 seconds RetCode: 0 Status: OK PackageFile: BiocBook_1.9.0.tar.gz PackageFileSize: 902.8 KiB