Package: BiocBook Version: 1.9.0 Command: rm -rf BiocBook.buildbin-libdir && mkdir BiocBook.buildbin-libdir && /Users/biocbuild/BBS/utils/build-universal.sh BiocBook_1.9.0.tar.gz /Library/Frameworks/R.framework/Resources/bin/R BiocBook.buildbin-libdir StartedAt: 2025-11-13 23:29:13 -0500 (Thu, 13 Nov 2025) EndedAt: 2025-11-13 23:29:18 -0500 (Thu, 13 Nov 2025) EllapsedTime: 5.1 seconds RetCode: 0 Status: OK PackageFile: BiocBook_1.9.0.tgz PackageFileSize: 1.028 MiB