Package: BiocBaseUtils Version: 1.13.0 Command: /home/biocbuild/bbs-3.23-bioc/R/bin/R CMD check --install=check:BiocBaseUtils.install-out.txt --library=/home/biocbuild/bbs-3.23-bioc/R/site-library --timings BiocBaseUtils_1.13.0.tar.gz StartedAt: 2025-11-13 21:26:40 -0500 (Thu, 13 Nov 2025) EndedAt: 2025-11-13 21:26:59 -0500 (Thu, 13 Nov 2025) EllapsedTime: 19.0 seconds RetCode: 0 Status: OK CheckDir: BiocBaseUtils.Rcheck Warnings: 0