Package: BiocBaseUtils Version: 1.13.0 Command: /home/biocbuild/bbs-3.23-bioc/R/bin/R CMD build --keep-empty-dirs --no-resave-data BiocBaseUtils StartedAt: 2025-11-13 16:27:56 -0500 (Thu, 13 Nov 2025) EndedAt: 2025-11-13 16:28:00 -0500 (Thu, 13 Nov 2025) EllapsedTime: 4.0 seconds RetCode: 0 Status: OK PackageFile: BiocBaseUtils_1.13.0.tar.gz PackageFileSize: 226.4 KiB