Package: BiocBaseUtils Version: 1.13.0 Command: /Library/Frameworks/R.framework/Resources/bin/R CMD INSTALL BiocBaseUtils StartedAt: 2025-11-12 15:16:15 -0500 (Wed, 12 Nov 2025) EndedAt: 2025-11-12 15:16:19 -0500 (Wed, 12 Nov 2025) EllapsedTime: 4.2 seconds RetCode: 0 Status: OK