Package: BiocBaseUtils Version: 1.13.0 Command: rm -rf BiocBaseUtils.buildbin-libdir && mkdir BiocBaseUtils.buildbin-libdir && /Users/biocbuild/BBS/utils/build-universal.sh BiocBaseUtils_1.13.0.tar.gz /Library/Frameworks/R.framework/Resources/bin/R BiocBaseUtils.buildbin-libdir StartedAt: 2025-11-12 20:51:58 -0500 (Wed, 12 Nov 2025) EndedAt: 2025-11-12 20:52:00 -0500 (Wed, 12 Nov 2025) EllapsedTime: 2.0 seconds RetCode: 0 Status: OK PackageFile: BiocBaseUtils_1.13.0.tgz PackageFileSize: 251.3 KiB