Package: Biobase Version: 2.71.0 Command: /home/biocbuild/bbs-3.23-bioc/R/bin/R CMD INSTALL Biobase StartedAt: 2025-11-14 15:12:35 -0500 (Fri, 14 Nov 2025) EndedAt: 2025-11-14 15:12:44 -0500 (Fri, 14 Nov 2025) EllapsedTime: 8.9 seconds RetCode: 0 Status: OK