Package: Biobase Version: 2.71.0 Command: /Library/Frameworks/R.framework/Resources/bin/R CMD INSTALL Biobase StartedAt: 2025-11-13 15:06:34 -0500 (Thu, 13 Nov 2025) EndedAt: 2025-11-13 15:06:39 -0500 (Thu, 13 Nov 2025) EllapsedTime: 4.4 seconds RetCode: 0 Status: OK