Package: Biobase Version: 2.71.0 Command: /Library/Frameworks/R.framework/Resources/bin/R CMD build --keep-empty-dirs --no-resave-data Biobase StartedAt: 2025-11-13 15:47:55 -0500 (Thu, 13 Nov 2025) EndedAt: 2025-11-13 15:48:04 -0500 (Thu, 13 Nov 2025) EllapsedTime: 9.1 seconds RetCode: 0 Status: OK PackageFile: Biobase_2.71.0.tar.gz PackageFileSize: 1.886 MiB