Package: Biobase Version: 2.71.0 Command: rm -rf Biobase.buildbin-libdir && mkdir Biobase.buildbin-libdir && /Users/biocbuild/BBS/utils/build-universal.sh Biobase_2.71.0.tar.gz /Library/Frameworks/R.framework/Resources/bin/R Biobase.buildbin-libdir StartedAt: 2025-11-13 23:29:08 -0500 (Thu, 13 Nov 2025) EndedAt: 2025-11-13 23:29:15 -0500 (Thu, 13 Nov 2025) EllapsedTime: 7.2 seconds RetCode: 0 Status: OK PackageFile: Biobase_2.71.0.tgz PackageFileSize: 2.516 MiB