Package: BioTIP Version: 1.25.0 Command: /home/biocbuild/bbs-3.23-bioc/R/bin/R CMD INSTALL BioTIP StartedAt: 2025-11-13 15:54:42 -0500 (Thu, 13 Nov 2025) EndedAt: 2025-11-13 15:54:53 -0500 (Thu, 13 Nov 2025) EllapsedTime: 11.3 seconds RetCode: 0 Status: OK