Package: BioTIP Version: 1.25.0 Command: /home/biocbuild/bbs-3.23-bioc/R/bin/R CMD build --keep-empty-dirs --no-resave-data BioTIP StartedAt: 2025-11-13 16:30:41 -0500 (Thu, 13 Nov 2025) EndedAt: 2025-11-13 16:32:13 -0500 (Thu, 13 Nov 2025) EllapsedTime: 91.1 seconds RetCode: 0 Status: OK PackageFile: BioTIP_1.25.0.tar.gz PackageFileSize: 8.652 MiB