Package: BioTIP Version: 1.25.0 Command: /Library/Frameworks/R.framework/Resources/bin/R CMD INSTALL BioTIP StartedAt: 2025-11-12 15:43:56 -0500 (Wed, 12 Nov 2025) EndedAt: 2025-11-12 15:43:57 -0500 (Wed, 12 Nov 2025) EllapsedTime: 1.2 seconds RetCode: 1 Status: ERROR