Package: BioQC Version: 1.39.0 Command: /Library/Frameworks/R.framework/Resources/bin/R CMD INSTALL BioQC StartedAt: 2025-11-14 15:07:12 -0500 (Fri, 14 Nov 2025) EndedAt: 2025-11-14 15:07:18 -0500 (Fri, 14 Nov 2025) EllapsedTime: 5.6 seconds RetCode: 0 Status: OK