Package: BioQC Version: 1.39.0 Command: /Library/Frameworks/R.framework/Resources/bin/R CMD build --keep-empty-dirs --no-resave-data BioQC StartedAt: 2025-11-13 15:49:03 -0500 (Thu, 13 Nov 2025) EndedAt: 2025-11-13 15:49:53 -0500 (Thu, 13 Nov 2025) EllapsedTime: 50.5 seconds RetCode: 0 Status: OK PackageFile: BioQC_1.39.0.tar.gz PackageFileSize: 4.301 MiB