Package: BioQC Version: 1.39.0 Maintainer: Jitao David Zhang MaintainerEmail: jitao_david.zhang at roche.com git_url: https://git.bioconductor.org/packages/BioQC git_branch: devel git_last_commit: c2f01e7 git_last_commit_date: 2025-10-29 10:28:57 -0500 (Wed, 29 Oct 2025)