Package: BioNet Version: 1.71.0 Command: /home/biocbuild/bbs-3.23-bioc/R/bin/R CMD build --keep-empty-dirs --no-resave-data BioNet StartedAt: 2025-11-13 16:30:02 -0500 (Thu, 13 Nov 2025) EndedAt: 2025-11-13 16:30:53 -0500 (Thu, 13 Nov 2025) EllapsedTime: 51.0 seconds RetCode: 0 Status: OK PackageFile: BioNet_1.71.0.tar.gz PackageFileSize: 1.802 MiB