Package: BioNet Version: 1.71.0 Command: /Library/Frameworks/R.framework/Resources/bin/R CMD build --keep-empty-dirs --no-resave-data BioNet StartedAt: 2025-11-13 15:49:02 -0500 (Thu, 13 Nov 2025) EndedAt: 2025-11-13 15:49:24 -0500 (Thu, 13 Nov 2025) EllapsedTime: 22.2 seconds RetCode: 0 Status: OK PackageFile: BioNet_1.71.0.tar.gz PackageFileSize: 1.802 MiB