Package: BioNERO Version: 1.19.0 Command: /home/biocbuild/bbs-3.23-bioc/R/bin/R CMD INSTALL BioNERO StartedAt: 2025-11-13 15:44:59 -0500 (Thu, 13 Nov 2025) EndedAt: 2025-11-13 15:45:39 -0500 (Thu, 13 Nov 2025) EllapsedTime: 39.9 seconds RetCode: 0 Status: OK